BEGIN:VCALENDAR
VERSION:2.0
PRODID:-//Tri-State Horsemen&#039;s Association - ECPv6.15.20//NONSGML v1.0//EN
CALSCALE:GREGORIAN
METHOD:PUBLISH
X-WR-CALNAME:Tri-State Horsemen&#039;s Association
X-ORIGINAL-URL:https://www.tri-state-horse.com
X-WR-CALDESC:Events for Tri-State Horsemen&#039;s Association
REFRESH-INTERVAL;VALUE=DURATION:PT1H
X-Robots-Tag:noindex
X-PUBLISHED-TTL:PT1H
BEGIN:VTIMEZONE
TZID:America/Chicago
BEGIN:DAYLIGHT
TZOFFSETFROM:-0600
TZOFFSETTO:-0500
TZNAME:CDT
DTSTART:20250309T080000
END:DAYLIGHT
BEGIN:STANDARD
TZOFFSETFROM:-0500
TZOFFSETTO:-0600
TZNAME:CST
DTSTART:20251102T070000
END:STANDARD
BEGIN:DAYLIGHT
TZOFFSETFROM:-0600
TZOFFSETTO:-0500
TZNAME:CDT
DTSTART:20260308T080000
END:DAYLIGHT
BEGIN:STANDARD
TZOFFSETFROM:-0500
TZOFFSETTO:-0600
TZNAME:CST
DTSTART:20261101T070000
END:STANDARD
BEGIN:DAYLIGHT
TZOFFSETFROM:-0600
TZOFFSETTO:-0500
TZNAME:CDT
DTSTART:20270314T080000
END:DAYLIGHT
BEGIN:STANDARD
TZOFFSETFROM:-0500
TZOFFSETTO:-0600
TZNAME:CST
DTSTART:20271107T070000
END:STANDARD
END:VTIMEZONE
BEGIN:VEVENT
DTSTART;VALUE=DATE:20260423
DTEND;VALUE=DATE:20260427
DTSTAMP:20260423T065050
CREATED:20220208T224043Z
LAST-MODIFIED:20260311T184644Z
UID:4876-1776902400-1777247999@www.tri-state-horse.com
SUMMARY:Des Moines Springfest Horse Show -CANCELED for 2026
DESCRIPTION:Saddlebred\, Hackney Pony\, Ranch Horse\, Academy\, Open English Pleasure\, Equitation\, & ProAm Classes.   Trainer Cash Incentive Program.  Stick Horse\, Leadline\, & Pet Costume classes. This show is a benefit for Blank Children’s Hospital STAR Program. \n  \n  \n 
URL:https://www.tri-state-horse.com/event/des-moines-springfest-horse-show/
LOCATION:Jacobson Exhibition Center\, 3000 E Grand Ave\, Des Moines\, IA\, 50317\, United States
ATTACH;FMTTYPE=image/jpeg:https://www.tri-state-horse.com/wp-content/uploads/2022/02/Des-Moines.jpg
END:VEVENT
BEGIN:VEVENT
DTSTART;VALUE=DATE:20260424
DTEND;VALUE=DATE:20260427
DTSTAMP:20260423T065050
CREATED:20220208T223607Z
LAST-MODIFIED:20251220T133426Z
UID:4915-1776988800-1777247999@www.tri-state-horse.com
SUMMARY:Minnesota Horse Expo
DESCRIPTION:Minnesota’s largest equine trade show with vendors  creating an easy access marketplace for anyone wanting to find merchandise related to horses/owners and compare brands\, prices and features. Horses representing many horse breeds and associations are displayed and exhibited daily. Speakers\, trainers and clinicians educate on equitation\, horse training\, care and maintenance. Free pony and wagon rides.
URL:https://www.tri-state-horse.com/event/minnesota-horse-expo/
LOCATION:MN State Fairgrounds\, 1265 Snelling Ave. N.\, St Paul\, MN\, 55108\, United States
ATTACH;FMTTYPE=image/jpeg:https://www.tri-state-horse.com/wp-content/uploads/2022/02/Expo-2025.jpg
END:VEVENT
BEGIN:VEVENT
DTSTART;VALUE=DATE:20260501
DTEND;VALUE=DATE:20260504
DTSTAMP:20260423T065050
CREATED:20230216T184842Z
LAST-MODIFIED:20260311T155218Z
UID:5748-1777593600-1777852799@www.tri-state-horse.com
SUMMARY:Sahara Sands Spring Classic
DESCRIPTION:Our show\, the Sahara Sands Spring Classic\, is held on the first full weekend in May at the Minnesota State Fairgrounds in St. Paul\, MN.  The show is held in the Lee and Rose Warner Coliseum\, so riders and spectators don’t need to be concerned about the unpredictable Minnesota spring weather.
URL:https://www.tri-state-horse.com/event/sahara/
LOCATION:MN State Fairgrounds\, 1265 Snelling Ave. N.\, St Paul\, MN\, 55108\, United States
ATTACH;FMTTYPE=image/jpeg:https://www.tri-state-horse.com/wp-content/uploads/2022/02/sah-e1645303578344.jpg
END:VEVENT
BEGIN:VEVENT
DTSTART;VALUE=DATE:20260507
DTEND;VALUE=DATE:20260511
DTSTAMP:20260423T065050
CREATED:20220208T223925Z
LAST-MODIFIED:20260318T192354Z
UID:4881-1778112000-1778457599@www.tri-state-horse.com
SUMMARY:F.A.S.H.
DESCRIPTION:A horse show for Saddlebred\, Morgan\, Hackney\, Open and Equitation Classes.  Experience this competition of spectacular horse breeds along with their riders and drivers performing together in a display of elegance and finesse.
URL:https://www.tri-state-horse.com/event/f-a-s-h/
LOCATION:MN State Fairgrounds\, 1265 Snelling Ave. N.\, St Paul\, MN\, 55108\, United States
ATTACH;FMTTYPE=image/png:https://www.tri-state-horse.com/wp-content/uploads/2022/02/fash.png
ORGANIZER;CN="Steph Peterson":MAILTO:steph.peterson51@gmail.com
END:VEVENT
BEGIN:VEVENT
DTSTART;VALUE=DATE:20260516
DTEND;VALUE=DATE:20260518
DTSTAMP:20260423T065050
CREATED:20230120T134203Z
LAST-MODIFIED:20260305T175132Z
UID:5668-1778889600-1779062399@www.tri-state-horse.com
SUMMARY:NMAHA Arabian Value Shows
DESCRIPTION:Amateur friendly – Arabian\, Half Arabian and Anglo Arabian horses.  Youth & Select\, Trail & Ranch Riding\, and Jackpot Poker In-Hand\, & Schooling classes.
URL:https://www.tri-state-horse.com/event/nmah-spring-value-shows/
LOCATION:R&J Event Arena\, 16498 US HWY 10\, Verndale\, MN\, 56481\, United States
ATTACH;FMTTYPE=image/jpeg:https://www.tri-state-horse.com/wp-content/uploads/2023/01/NMAH.jpg
END:VEVENT
BEGIN:VEVENT
DTSTART;VALUE=DATE:20260517
DTEND;VALUE=DATE:20260518
DTSTAMP:20260423T065050
CREATED:20260305T172945Z
LAST-MODIFIED:20260305T173043Z
UID:6187-1778976000-1779062399@www.tri-state-horse.com
SUMMARY:Riders & Ribbons
DESCRIPTION:Riders & Ribbons Academy shows are horse shows for riders in lesson programs to test their skills by competing in a safe and inspiring environment. Every rider receives a ribbon!
URL:https://www.tri-state-horse.com/event/riders-ribbons/
LOCATION:MN State Fairgrounds\, 1265 Snelling Ave. N.\, St Paul\, MN\, 55108\, United States
ATTACH;FMTTYPE=image/png:https://www.tri-state-horse.com/wp-content/uploads/2026/02/Screenshot-2026-02-13-at-15-56-59-8-Facebook.png
ORGANIZER;CN="Minnesota Saddlebred Horse Association":MAILTO:info@msha.org
END:VEVENT
BEGIN:VEVENT
DTSTART;VALUE=DATE:20260521
DTEND;VALUE=DATE:20260525
DTSTAMP:20260423T065050
CREATED:20230103T194709Z
LAST-MODIFIED:20251126T175212Z
UID:5603-1779321600-1779667199@www.tri-state-horse.com
SUMMARY:Madison Classic
DESCRIPTION:Saddlebred\, Hackney Pony\, Equitation\, Open\, Academy\, Pro Am\, & Costume Classes
URL:https://www.tri-state-horse.com/event/madison-classic/
LOCATION:Alliant Energy Center\, 1919 Alliant Energy Center Way\, Madison\, WI\, 53713\, United States
ATTACH;FMTTYPE=image/jpeg:https://www.tri-state-horse.com/wp-content/uploads/2022/02/madison-1-e1645738786100.jpg
ORGANIZER;CN="Vicky Holston":MAILTO:vholston@msn.com
END:VEVENT
BEGIN:VEVENT
DTSTART;VALUE=DATE:20260530
DTEND;VALUE=DATE:20260531
DTSTAMP:20260423T065050
CREATED:20230125T130301Z
LAST-MODIFIED:20260217T163815Z
UID:5687-1780099200-1780185599@www.tri-state-horse.com
SUMMARY:Doc Bol Memorial
DESCRIPTION:Join us for the first show of the year! No show apparel required\, so it’s a great intro to showing if you want to dip your toes in. We’re all here to help you learn the ropes if you wish. \nThere are a few Open Gaited Breed classes (youth and novice) and the All Day Pleasure classes are open to any gaited breed that follows the division’s rules (read All Day Pleasure rules from the National Walking Horse Association here or contact us if you have specific questions – mnwalkinghorse@gmail.com)
URL:https://www.tri-state-horse.com/event/doc-bol-memorial/
LOCATION:Double F Arena\, 35736 Hinckley Road\, Hinkley\, MN\, 55037\, United States
ATTACH;FMTTYPE=image/jpeg:https://www.tri-state-horse.com/wp-content/uploads/2022/02/docbol.jpg
ORGANIZER;CN="Minnesota Walking Horse Association":MAILTO:mnwalkinghorse@gmail.com
END:VEVENT
BEGIN:VEVENT
DTSTART;VALUE=DATE:20260605
DTEND;VALUE=DATE:20260608
DTSTAMP:20260423T065050
CREATED:20240112T183028Z
LAST-MODIFIED:20260311T184544Z
UID:5875-1780617600-1780876799@www.tri-state-horse.com
SUMMARY:Prairie State Classic Horse Show - CANCELED for 2026
DESCRIPTION:The Prairie State Classic features a large selection of academy classes for saddleseat\, hunter and western riders. The show is rated A for the Morgan division and rated N for the American saddlebred division. Established in 1993\, the Prairie State Classic holds a four-star rating with the American Morgan Horse Association.
URL:https://www.tri-state-horse.com/event/p-state-classic-horse-show/
LOCATION:Beyond Stable Farm\, 11129 Route 176\, Woodstock\, IL\, 60098\, United States
ATTACH;FMTTYPE=image/jpeg:https://www.tri-state-horse.com/wp-content/uploads/2022/02/prairie.jpg
END:VEVENT
BEGIN:VEVENT
DTSTART;VALUE=DATE:20260606
DTEND;VALUE=DATE:20260608
DTSTAMP:20260423T065050
CREATED:20230430T155532Z
LAST-MODIFIED:20251229T172113Z
UID:5775-1780704000-1780876799@www.tri-state-horse.com
SUMMARY:WHAA Wisconsin Memorial Showcase
DESCRIPTION:Walking Horse Show – ADP – All Day Pleasure\, CP – Country Pleasure\, TP – Trail Pleasure\, LS – Lite Shod\, PLS – Park Lite Shod\, PP – Plantation Pleasure\, O/T – Optional Tack\, AOT – Amateur Owned & Trained
URL:https://www.tri-state-horse.com/event/whaa-wisconsin-memorial-showcase/
LOCATION:Walworth County Fairgrounds\, 411 Court Street\, Elkhorn\, WI\, 53121
ATTACH;FMTTYPE=image/jpeg:https://www.tri-state-horse.com/wp-content/uploads/2023/04/WWHA.jpg
ORGANIZER;CN="Peggy Butler":MAILTO:butlerpia@gmail.com
END:VEVENT
BEGIN:VEVENT
DTSTART;VALUE=DATE:20260612
DTEND;VALUE=DATE:20260615
DTSTAMP:20260423T065050
CREATED:20230103T191308Z
LAST-MODIFIED:20251103T184611Z
UID:5591-1781222400-1781481599@www.tri-state-horse.com
SUMMARY:Summerfest
DESCRIPTION:Saddlebred\, Academy\, Schooling\, Fun Class!
URL:https://www.tri-state-horse.com/event/summerfest/
LOCATION:Simon Arena\, 29100 Harry Ave\, Cannon Falls\, MN\, 55009\, United States
ATTACH;FMTTYPE=image/webp:https://www.tri-state-horse.com/wp-content/uploads/2023/01/Summerfest-no-year.webp
ORGANIZER;CN="Minnesota Horse Show Services":MAILTO:MNHorseShowServices@gmail.com
END:VEVENT
BEGIN:VEVENT
DTSTART;VALUE=DATE:20260624
DTEND;VALUE=DATE:20260628
DTSTAMP:20260423T065050
CREATED:20220208T212204Z
LAST-MODIFIED:20251102T133551Z
UID:4884-1782259200-1782604799@www.tri-state-horse.com
SUMMARY:Tanbark Cavalcade of Roses Horse Show
DESCRIPTION:Saddlebred\, Morgan\, Hackney Pony\, Morgan\, Equitation\, Open\, and Academy Classes.
URL:https://www.tri-state-horse.com/event/tanbark/
LOCATION:MN State Fairgrounds\, 1265 Snelling Ave. N.\, St Paul\, MN\, 55108\, United States
ATTACH;FMTTYPE=image/jpeg:https://www.tri-state-horse.com/wp-content/uploads/2022/02/tanbark.jpg
END:VEVENT
BEGIN:VEVENT
DTSTART;VALUE=DATE:20260625
DTEND;VALUE=DATE:20260627
DTSTAMP:20260423T065050
CREATED:20230125T230012Z
LAST-MODIFIED:20260324T212910Z
UID:5697-1782345600-1782518399@www.tri-state-horse.com
SUMMARY:Great Arabian Get Together
DESCRIPTION:The Great Arabian Get Together is hosted by the Minnesota Half Arabian Horse Association. It’s a four day show offering classes for both purebred and half-Arabians in dressage\, pleasure\, equitation\, halter\, reining\, driving\, trail academy and youth.
URL:https://www.tri-state-horse.com/event/great-arabian/
LOCATION:Simon Arena\, 29100 Harry Ave\, Cannon Falls\, MN\, 55009\, United States
ATTACH;FMTTYPE=image/jpeg:https://www.tri-state-horse.com/wp-content/uploads/2022/02/half-arab.jpg
END:VEVENT
BEGIN:VEVENT
DTSTART;VALUE=DATE:20260705
DTEND;VALUE=DATE:20260706
DTSTAMP:20260423T065050
CREATED:20250206T202008Z
LAST-MODIFIED:20260305T170331Z
UID:6059-1783209600-1783295999@www.tri-state-horse.com
SUMMARY:South St Louis County Fair
DESCRIPTION:Open Horse show including Walking Horses and Arabian’s Unplugged
URL:https://www.tri-state-horse.com/event/south-st-louis-county-fair/
LOCATION:Dirt Floor Arena\, 800 N Boundary Ave\, Proctor\, MN\, 55810\, United States
ATTACH;FMTTYPE=image/jpeg:https://www.tri-state-horse.com/wp-content/uploads/2025/02/MN-WHA-e1738881143459.jpg
ORGANIZER;CN="Minnesota Walking Horse Association":MAILTO:mnwalkinghorse@gmail.com
END:VEVENT
BEGIN:VEVENT
DTSTART;VALUE=DATE:20260709
DTEND;VALUE=DATE:20260713
DTSTAMP:20260423T065050
CREATED:20220212T203720Z
LAST-MODIFIED:20251209T212743Z
UID:5185-1783555200-1783900799@www.tri-state-horse.com
SUMMARY:ASAW Summerfun Horse Show
DESCRIPTION:Saddlebred\, Hackney Pony\, Equitation\, Academy and Open Classes
URL:https://www.tri-state-horse.com/event/asaw-summerfun-horse-show/
LOCATION:Wisconsin State Fair Park\, 640 S 84th St\, West Allis\, WI\, United States
ATTACH;FMTTYPE=image/jpeg:https://www.tri-state-horse.com/wp-content/uploads/2022/02/asaw.jpg
ORGANIZER;CN="Vicky Holston":MAILTO:vholston@msn.com
END:VEVENT
BEGIN:VEVENT
DTSTART;VALUE=DATE:20260710
DTEND;VALUE=DATE:20260713
DTSTAMP:20260423T065050
CREATED:20220209T001705Z
LAST-MODIFIED:20260405T192751Z
UID:4987-1783641600-1783900799@www.tri-state-horse.com
SUMMARY:Mid-States Horse & Pony Show
DESCRIPTION:Saddlebred\, Hackney\, 48” and under ponies\, Academy and Open classes.
URL:https://www.tri-state-horse.com/event/mid-states-horse-pony-show/
LOCATION:Iowa Equestrian Center\, Kirkwood Community College\, 801 76th Ave Dr SW\, Cedar Rapids\, IA\, 52404\, United States
ATTACH;FMTTYPE=image/webp:https://www.tri-state-horse.com/wp-content/uploads/2022/02/midstates.webp
ORGANIZER;CN="Cindy Ireland":MAILTO:kcireland@southslope.net
END:VEVENT
BEGIN:VEVENT
DTSTART;VALUE=DATE:20260711
DTEND;VALUE=DATE:20260713
DTSTAMP:20260423T065050
CREATED:20230125T130739Z
LAST-MODIFIED:20260306T164305Z
UID:5691-1783728000-1783900799@www.tri-state-horse.com
SUMMARY:MWHA MN Celebration
DESCRIPTION:Join us for a two-day show packed with pleasure\, versatility\, and fun classes! Open Gaited classes are also offered\, so all gaited breeds are invited to participate.
URL:https://www.tri-state-horse.com/event/mn-celebration/
LOCATION:Double F Arena\, 35736 Hinckley Road\, Hinkley\, MN\, 55037\, United States
ATTACH;FMTTYPE=image/jpeg:https://www.tri-state-horse.com/wp-content/uploads/2022/02/mncelebration.jpg
ORGANIZER;CN="Minnesota Walking Horse Association":MAILTO:mnwalkinghorse@gmail.com
END:VEVENT
BEGIN:VEVENT
DTSTART;VALUE=DATE:20260716
DTEND;VALUE=DATE:20260719
DTSTAMP:20260423T065050
CREATED:20230103T192238Z
LAST-MODIFIED:20251209T212831Z
UID:5593-1784160000-1784419199@www.tri-state-horse.com
SUMMARY:The Morgan Masterpiece
DESCRIPTION:Benefitting the Rawhide Youth Services\, the Morgan Masterpiece features Morgan classes\, open breed\, academy\, and one LEGENDARY costume class!
URL:https://www.tri-state-horse.com/event/morgan-masterpiece/
LOCATION:Sunnyview Exposition Center\, 500 E. County. Road Y\, Oshkosh\, WI\, United States
ATTACH;FMTTYPE=image/jpeg:https://www.tri-state-horse.com/wp-content/uploads/2022/02/morgan-master-e1644698433853.jpg
END:VEVENT
BEGIN:VEVENT
DTSTART;VALUE=DATE:20260730
DTEND;VALUE=DATE:20260802
DTSTAMP:20260423T065050
CREATED:20220212T212529Z
LAST-MODIFIED:20260421T132713Z
UID:5208-1785369600-1785628799@www.tri-state-horse.com
SUMMARY:North Star Horse Show
DESCRIPTION:Morgan\, Saddlebred\, Arabian\, Open and Academy Classes \nNorth Star is an AMHA Star\, Tri-State approved\, NCMA sponsored\, local Morgan horse show that has been around for over 60 years!  The North Star horse show has expanded to include American Saddlebred\, Arabian\, Open\, and Academy classes for our area horse community to enjoy.
URL:https://www.tri-state-horse.com/event/north-star-morgan-americana-horse-show/
LOCATION:Simon Arena\, 29100 Harry Ave\, Cannon Falls\, MN\, 55009\, United States
ATTACH;FMTTYPE=image/jpeg:https://www.tri-state-horse.com/wp-content/uploads/2022/02/north-star-logo-30.jpg
END:VEVENT
BEGIN:VEVENT
DTSTART;VALUE=DATE:20260808
DTEND;VALUE=DATE:20260810
DTSTAMP:20260423T065050
CREATED:20220208T230044Z
LAST-MODIFIED:20260305T152005Z
UID:4932-1786147200-1786319999@www.tri-state-horse.com
SUMMARY:The Capitol Classic Horse Show I & II
DESCRIPTION:Saddlebred\, Morgan. Hackney\, Equitation\, Open and Academy Classes. \nOne show per day — show under a different judge each day.  Capitol Classic qualifies as two shows for Minnesota Saddlebred State Championships and Minnesota Academy Equestrian Finals 
URL:https://www.tri-state-horse.com/event/the-capitol-classic-horse-show/
LOCATION:MN Equestrian Center\, 24621 Gilmore Valley Rd\, Winona\, MN\, 55987\, United States
ATTACH;FMTTYPE=image/png:https://www.tri-state-horse.com/wp-content/uploads/2022/02/cap-clas.png
END:VEVENT
BEGIN:VEVENT
DTSTART;VALUE=DATE:20260903
DTEND;VALUE=DATE:20260905
DTSTAMP:20260423T065050
CREATED:20230523T173156Z
LAST-MODIFIED:20260125T154036Z
UID:5796-1788393600-1788566399@www.tri-state-horse.com
SUMMARY:Minnesota State Fair - Walking Horse
DESCRIPTION:
URL:https://www.tri-state-horse.com/event/minnesota-state-fair-walking-horse/
LOCATION:MN State Fairgrounds\, 1265 Snelling Ave. N.\, St Paul\, MN\, 55108\, United States
ATTACH;FMTTYPE=image/jpeg:https://www.tri-state-horse.com/wp-content/uploads/2019/08/walking-1.jpg
END:VEVENT
BEGIN:VEVENT
DTSTART;VALUE=DATE:20260904
DTEND;VALUE=DATE:20260907
DTSTAMP:20260423T065050
CREATED:20220208T231446Z
LAST-MODIFIED:20251103T184527Z
UID:4941-1788480000-1788739199@www.tri-state-horse.com
SUMMARY:Cannon Valley Classic Horse Show
DESCRIPTION:Classes for Saddlebreds\, Hackney Ponies\, Academy and Open horses along with a lot of fun! \n  \n  \n  \n 
URL:https://www.tri-state-horse.com/event/cannon-valley-classic-horse-show/
LOCATION:Simon Arena\, 29100 Harry Ave\, Cannon Falls\, MN\, 55009\, United States
ATTACH;FMTTYPE=image/webp:https://www.tri-state-horse.com/wp-content/uploads/2022/02/CVC-no-year.webp
ORGANIZER;CN="Minnesota Horse Show Services":MAILTO:MNHorseShowServices@gmail.com
END:VEVENT
BEGIN:VEVENT
DTSTART;VALUE=DATE:20260917
DTEND;VALUE=DATE:20260921
DTSTAMP:20260423T065050
CREATED:20221129T205249Z
LAST-MODIFIED:20251126T174912Z
UID:5200-1789603200-1789948799@www.tri-state-horse.com
SUMMARY:Wisconsin Futurity Horse Festival
DESCRIPTION:
URL:https://www.tri-state-horse.com/event/wisconsin-futurity-horse-festival-2/
LOCATION:Alliant Energy Center\, 1919 Alliant Energy Center Way\, Madison\, WI\, 53713\, United States
ATTACH;FMTTYPE=image/webp:https://www.tri-state-horse.com/wp-content/uploads/2022/02/wi-futurity.webp
ORGANIZER;CN="Vicky Holston":MAILTO:vholston@msn.com
END:VEVENT
BEGIN:VEVENT
DTSTART;VALUE=DATE:20260918
DTEND;VALUE=DATE:20260921
DTSTAMP:20260423T065050
CREATED:20220208T224554Z
LAST-MODIFIED:20260109T222535Z
UID:4901-1789689600-1789948799@www.tri-state-horse.com
SUMMARY:Minnesota Arabian Horse Association Fall Classic Horse Show
DESCRIPTION:Arabian\, Half Arabian\, Anglo Arabian\, Halter\, Working & Western Pleasure\, English Pleasure\, Hunter\, Equitation\, Academy\, and Schooling Classes.
URL:https://www.tri-state-horse.com/event/minnesota-arabian-horse-association-fall-classic-horse-how/
LOCATION:MN Equestrian Center\, 24621 Gilmore Valley Rd\, Winona\, MN\, 55987\, United States
ATTACH;FMTTYPE=image/jpeg:https://www.tri-state-horse.com/wp-content/uploads/2022/02/show_adult_costume_450x300.jpg
END:VEVENT
BEGIN:VEVENT
DTSTART;VALUE=DATE:20261009
DTEND;VALUE=DATE:20261012
DTSTAMP:20260423T065050
CREATED:20240112T184532Z
LAST-MODIFIED:20260305T151856Z
UID:5884-1791504000-1791763199@www.tri-state-horse.com
SUMMARY:Minnesota Saddlebred State Championship Horse Show
DESCRIPTION:American Saddlebred\, Hackney Pony\, Open\, Training\, Equitation\, Pro Am\, Academy Classes
URL:https://www.tri-state-horse.com/event/msha-state/
LOCATION:MN Equestrian Center\, 24621 Gilmore Valley Rd\, Winona\, MN\, 55987\, United States
ATTACH;FMTTYPE=image/png:https://www.tri-state-horse.com/wp-content/uploads/2022/02/msha.png
END:VEVENT
BEGIN:VEVENT
DTSTART;TZID=America/Chicago:20261101T110000
DTEND;TZID=America/Chicago:20261101T150000
DTSTAMP:20260423T065050
CREATED:20220212T200629Z
LAST-MODIFIED:20251220T133652Z
UID:5172-1793530800-1793545200@www.tri-state-horse.com
SUMMARY:Tri-State Awards Banquet
DESCRIPTION:Tri-State’s annual gathering to celebrate with and recognize our members horse show and community accomplishments.
URL:https://www.tri-state-horse.com/event/tri-state-awards-dinner/
LOCATION:Wayzata Country Club\, 200 W Wayzata Blvd\, Wayzata\, MN\, 55391\, United States
ATTACH;FMTTYPE=image/jpeg:https://www.tri-state-horse.com/wp-content/uploads/2025/01/467424487_968275805337014_1672311556450917407_n.jpg
ORGANIZER;CN="Marcy Eickholt":MAILTO:eickholtmarcy@gmail.com
END:VEVENT
END:VCALENDAR